BEGIN:VCALENDAR
VERSION:2.0
PRODID:-//AccessPlus Organization - ECPv6.15.20//NONSGML v1.0//EN
CALSCALE:GREGORIAN
METHOD:PUBLISH
X-ORIGINAL-URL:https://accesspluss.org
X-WR-CALDESC:Events for AccessPlus Organization
REFRESH-INTERVAL;VALUE=DURATION:PT1H
X-Robots-Tag:noindex
X-PUBLISHED-TTL:PT1H
BEGIN:VTIMEZONE
TZID:UTC
BEGIN:STANDARD
TZOFFSETFROM:+0000
TZOFFSETTO:+0000
TZNAME:UTC
DTSTART:20190101T000000
END:STANDARD
END:VTIMEZONE
BEGIN:VEVENT
DTSTART;TZID=UTC:20200630T130000
DTEND;TZID=UTC:20200630T143000
DTSTAMP:20260423T173227
CREATED:20210228T150649Z
LAST-MODIFIED:20210228T160917Z
UID:2305-1593522000-1593527400@accesspluss.org
SUMMARY:Webinar on Safe Browsing for Children ages 12 to 19
DESCRIPTION:  \nThis webinar was therefore planned to expose the students to best practices of the use of the internet in these times of the COVID-19 . In addition\, the webinar was also to highlight the dangers that arise out of the reckless use of the internet\, which dangers may include: cyberbulying\, online sexual abuse\, imposter scams\, identity theft\, hacking of email accounts\, exposure to early sex and bad peer grouping.
URL:https://accesspluss.org/event/webinar-series-1-safe-browsing/
CATEGORIES:Education
ATTACH;FMTTYPE=image/png:https://accesspluss.org/wp-content/uploads/2020/07/Banner_SafeBrowsing.png
END:VEVENT
END:VCALENDAR